BEGIN:VCALENDAR
VERSION:2.0
PRODID:-//NeoCare - ECPv6.3.2//NONSGML v1.0//EN
CALSCALE:GREGORIAN
METHOD:PUBLISH
X-WR-CALNAME:NeoCare
X-ORIGINAL-URL:https://wp-debug.envt.fr
X-WR-CALDESC:évènements pour NeoCare
REFRESH-INTERVAL;VALUE=DURATION:PT1H
X-Robots-Tag:noindex
X-PUBLISHED-TTL:PT1H
BEGIN:VTIMEZONE
TZID:Europe/Paris
BEGIN:DAYLIGHT
TZOFFSETFROM:+0100
TZOFFSETTO:+0200
TZNAME:CEST
DTSTART:20180325T010000
END:DAYLIGHT
BEGIN:STANDARD
TZOFFSETFROM:+0200
TZOFFSETTO:+0100
TZNAME:CET
DTSTART:20181028T010000
END:STANDARD
BEGIN:DAYLIGHT
TZOFFSETFROM:+0100
TZOFFSETTO:+0200
TZNAME:CEST
DTSTART:20190331T010000
END:DAYLIGHT
BEGIN:STANDARD
TZOFFSETFROM:+0200
TZOFFSETTO:+0100
TZNAME:CET
DTSTART:20191027T010000
END:STANDARD
BEGIN:DAYLIGHT
TZOFFSETFROM:+0100
TZOFFSETTO:+0200
TZNAME:CEST
DTSTART:20200329T010000
END:DAYLIGHT
BEGIN:STANDARD
TZOFFSETFROM:+0200
TZOFFSETTO:+0100
TZNAME:CET
DTSTART:20201025T010000
END:STANDARD
BEGIN:DAYLIGHT
TZOFFSETFROM:+0100
TZOFFSETTO:+0200
TZNAME:CEST
DTSTART:20210328T010000
END:DAYLIGHT
BEGIN:STANDARD
TZOFFSETFROM:+0200
TZOFFSETTO:+0100
TZNAME:CET
DTSTART:20211031T010000
END:STANDARD
BEGIN:DAYLIGHT
TZOFFSETFROM:+0100
TZOFFSETTO:+0200
TZNAME:CEST
DTSTART:20220327T010000
END:DAYLIGHT
BEGIN:STANDARD
TZOFFSETFROM:+0200
TZOFFSETTO:+0100
TZNAME:CET
DTSTART:20221030T010000
END:STANDARD
END:VTIMEZONE
BEGIN:VEVENT
DTSTART;TZID=Europe/Paris:20220310T194500
DTEND;TZID=Europe/Paris:20220310T220000
DTSTAMP:20260425T164227
CREATED:20220221T092320Z
LAST-MODIFIED:20220221T092320Z
UID:18121-1646941500-1646949600@wp-debug.envt.fr
SUMMARY:Soirée NeoCare : Alimentation
DESCRIPTION:Chers éleveurs\, vétérinaires\, étudiants\, passionnés\, \nInscrivez vous dès aujourd’hui à notre soirée de formation ayant pour thème : « Alimentation » qui aura lieu le jeudi 10 mars 2022 à 20h en visioconférence. \nOuverte à tous (vétérinaires\, éleveurs\, étudiants…)\, elle traitera du comportement chez les chiots et les chatons. \n\nProgramme \n✅ 19h45 – Ouverture de la salle Zoom et accueil des participants \n✅ 20h00 – Actualités NeoCare \n✅ 20h15 – Règlementation et origine des ingrédients \nQuentin GARRIGUES\, Doctorant à NeoCare\, Ingénieur en Alimentation\, Nutrition & Santé\, fera un tour d’horizon des matières premières composant les aliments pour animaux de compagnie et expliquera les contraintes règlementaires. \n✅ 20h30 – Mode de fabrication des aliments secs et humides \nQuentin GARRIGUES détaillera les différentes étapes de la transformation des matières premières pour aboutir au produit final de qualité nutritionnelle et sanitaires contrôlées. \n✅ 20h45 – Les étiquettes alimentaires\, une mine de renseignements ! \nDr Petra ROUCH-BUCK\, Praticien Hospitalier Médecine Préventive et Nutrition\, chargée des consultations spécialisées en nutrition à l’ENVT\, expliquera comment lire et interpréter les étiquettes alimentaires. \n✅ 21h00 – Cas pratiques \nDr Petra ROUCH-BUCK décryptera en direct une sélection des étiquettes d’aliments pour chien et chat. \n✅ 21h15 – Table ronde \n  \nPour vous inscrire et recevoir votre invitation à la visioconférence sur Zoom\, c’est par ici :\nhttps://my.weezevent.com/alimentation \n 
URL:https://wp-debug.envt.fr/agenda/soiree-neocare-alimentation/
LOCATION:En ligne\, France
CATEGORIES:Soirées NeoCare
ORGANIZER;CN="NeoCare":MAILTO:repro@envt.fr
END:VEVENT
BEGIN:VEVENT
DTSTART;TZID=Europe/Paris:20210610T194500
DTEND;TZID=Europe/Paris:20210610T220000
DTSTAMP:20260425T164227
CREATED:20210506T121013Z
LAST-MODIFIED:20210506T121013Z
UID:18005-1623354300-1623362400@wp-debug.envt.fr
SUMMARY:Soirée NeoCare : Elevage & Comportement
DESCRIPTION:Chers éleveurs\, vétérinaires\, étudiants\, passionnés\, \nInscrivez vous dès aujourd’hui à notre soirée de formation ayant pour thème : « Elevage & Comportement » qui aura lieu le jeudi 10 juin 2021 à 20h en visioconférence. \nOuverte à tous (vétérinaires\, éleveurs\, étudiants…)\, elle traitera du comportement chez les chiots et les chatons. \n\nProgramme :\n✅ 19h45 : Ouverture de la salle Zoom et accueil \n✅ 20h00 : Comment prévenir les troubles du comportement dès l’élevage ?\n \nDr Océane RICHARD présente les bons réflexes pour des chiots et des chatons bien sociabilisés : \n\nSélection des reproducteurs\nEnrichissement de l’environnement\nSociabilisation et éducation\n\n✅ 20h45 : Table ronde \nPosez vos questions par mail et tout au long de la soirée.\n \nPour vous inscrire et recevoir votre invitation à la visioconférence sur Zoom\, c’est par ici :\nhttps://www.weezevent.com/elevage-et-comportement \n 
URL:https://wp-debug.envt.fr/agenda/soiree-neocare-elevage-et-comportement/
LOCATION:En ligne\, France
CATEGORIES:Soirées NeoCare
ORGANIZER;CN="NeoCare":MAILTO:repro@envt.fr
END:VEVENT
BEGIN:VEVENT
DTSTART;TZID=Europe/Paris:20210401T194500
DTEND;TZID=Europe/Paris:20210401T220000
DTSTAMP:20260425T164227
CREATED:20210308T134136Z
LAST-MODIFIED:20210308T134136Z
UID:17935-1617306300-1617314400@wp-debug.envt.fr
SUMMARY:Soirée NeoCare : Le colostrum en pratique
DESCRIPTION:Chers éleveurs\, vétérinaires\, étudiants\, passionnés\, \nInscrivez vous dès aujourd’hui à notre soirée de formation ayant pour thème : « Le colostrum en pratique » qui aura lieu le jeudi 1er avril 2021 à 20h en visioconférence. \nOuverte à tous (vétérinaires\, éleveurs\, étudiants…)\, elle traitera du colostrum chez la chienne et la chatte. \n\nProgramme :\n✅ 19h45 : Ouverture de la salle Zoom et accueil \n✅ 20h00 : Table ronde « Tout ce que vous devez savoir sur le colostrum » \nPr Sylvie CHASTANT et Dr Hanna MILA répondront en direct à vos questions sur le colostrum : \n\nMa chienne n’a pas de colostrum\, que puis-je faire ?\nMon chaton est faible\, comment l’aider ?\nUne banque de colostrum ? Pour quoi faire ?\nComment gérer un conflit sérologique entre ma chatte et ses chatons ? \n\nPosez vos questions tout au long de la soirée.\n \nPour vous inscrire et recevoir votre invitation à la visioconférence sur Zoom\, c’est par ici :\nhttps://www.weezevent.com/le-colostrum-en-pratique \n 
URL:https://wp-debug.envt.fr/agenda/soiree-neocare-le-colostrum-en-pratique/
LOCATION:En ligne\, France
CATEGORIES:Soirées NeoCare
ORGANIZER;CN="NeoCare":MAILTO:repro@envt.fr
END:VEVENT
BEGIN:VEVENT
DTSTART;TZID=Europe/Paris:20210112T194500
DTEND;TZID=Europe/Paris:20210112T220000
DTSTAMP:20260425T164227
CREATED:20201127T125631Z
LAST-MODIFIED:20201127T130127Z
UID:17866-1610480700-1610488800@wp-debug.envt.fr
SUMMARY:Soirée NeoCare : Gestion des parasites en élevage
DESCRIPTION:Chers éleveurs\, vétérinaires\, étudiants\, passionnés\, \nInscrivez vous dès aujourd’hui à notre soirée de formation ayant pour thème : « Gestion des parasites en élevage » qui aura lieu le mardi 12 janvier 2021 à 20h en visioconférence. \nOuverte à tous (vétérinaires\, éleveurs\, étudiants…)\, elle traitera de parasitologie. \n\nProgramme :\n✅ 19h45 : Ouverture de la salle Zoom et accueil \n✅ 20h00 : Gestion des parasites en élevage : entretien avec une experte \nDr Emilie BOUHSIRA\, (enseignante-chercheuse à l’ENVT\, DMV\, PhD\, dip. de l’EVPC\, présidente de l’ESCCAP France) répondra aux questions du Dr Hanna MILA et établira un panorama  des parasites circulants en France. Elles évoqueront ensuite la prophylaxie adaptée aux élevages \n✅ 21h15 : Table ronde – Réponse aux questions posées sur Zoom \nPour vous inscrire et recevoir votre invitation à la visioconférence sur Zoom\, c’est par ici :\nhttps://www.weezevent.com/parasites-et-elevage \n 
URL:https://wp-debug.envt.fr/agenda/soiree-neocare-gestion-des-parasites-en-elevage/
LOCATION:En ligne\, France
CATEGORIES:Soirées NeoCare
ORGANIZER;CN="NeoCare":MAILTO:repro@envt.fr
END:VEVENT
BEGIN:VEVENT
DTSTART;TZID=Europe/Paris:20200924T194500
DTEND;TZID=Europe/Paris:20200924T220000
DTSTAMP:20260425T164227
CREATED:20200824T125249Z
LAST-MODIFIED:20200824T125249Z
UID:17594-1600976700-1600984800@wp-debug.envt.fr
SUMMARY:Soirée NeoCare : La tétée\, pas si simple !
DESCRIPTION:Chers éleveurs\, vétérinaires\, étudiants\, passionnés\, \nInscrivez vous dès aujourd’hui à notre soirée de formation ayant pour thème : « la tétée\, pas si simple » qui aura lieu le 24 septembre 2020 à 19h45 en visioconférence. \nOuverte à tous (vétérinaires\, éleveurs\, étudiants…)\, elle traitera de l’allaitement du chiot. \n\nProgramme :\n✅ 20h00 : Actualités NeoCare\n✅ 20h15 : Comportement de tétée chez le chiot – Dr Camille VIAUD\n✅ 20h45 : Utiliser le lait de pseudo gestation – Dr Marine ABRARD\n✅ 21h15 : Table ronde – Réponse aux questions posées sur Zoom \nPour vous inscrire et recevoir votre invitation à la visioconférence sur Zoom\, c’est par ici :\nhttps://www.weezevent.com/tetee-chiot \n 
URL:https://wp-debug.envt.fr/agenda/soiree-neocare-la-tetee-pas-si-simple-2/
LOCATION:En ligne\, France
ORGANIZER;CN="NeoCare":MAILTO:repro@envt.fr
END:VEVENT
BEGIN:VEVENT
DTSTART;TZID=Europe/Paris:20200611T194500
DTEND;TZID=Europe/Paris:20200611T220000
DTSTAMP:20260425T164227
CREATED:20200519T090718Z
LAST-MODIFIED:20200824T125331Z
UID:17272-1591904700-1591912800@wp-debug.envt.fr
SUMMARY:Soirée NeoCare : Une mise à la reproduction\, ça se prépare
DESCRIPTION:Soirée NeoCare\nLe 11 juin 2020\, start 19h45 soirée en ligne :\n « Une mise à la reproduction\, ça se prépare »\n  \n\nInscription gratuite et lien Zoom ici : \nhttps://www.weezevent.com/soiree-neocare \n  \nNe pas pouvoir vous réunir dans l’amphithéâtre n’empêche pas une soirée NeoCare. \nRendez-vous sur Zoom pour changer de sujet : passons à autre chose que le Covid. \n  \nProgramme : \n▪️19h45 : Que se passe-t-il chez NeoCare ? \n▪️20h00 : Préparer sa femelle à la reproduction pour optimiser le résultat : Dr Hanna MILA et Pr Sylvie CHASTANT comparent les résultats des pratiques des éleveurs en France avec les recommandations scientifiquement validées \n▪️21h00 : Table ronde : réponse aux questions posées sur Zoom \n  \nMerci d’avance pour votre participation\nL’équipe NeoCare
URL:https://wp-debug.envt.fr/agenda/17272/
LOCATION:En ligne\, France
ORGANIZER;CN="NeoCare":MAILTO:repro@envt.fr
END:VEVENT
BEGIN:VEVENT
DTSTART;TZID=Europe/Paris:20200324T183000
DTEND;TZID=Europe/Paris:20200324T220000
DTSTAMP:20260425T164227
CREATED:20200115T111533Z
LAST-MODIFIED:20200115T111638Z
UID:16619-1585074600-1585087200@wp-debug.envt.fr
SUMMARY:Soirée NeoCare : "La tétée : pas si simple"
DESCRIPTION:Chers éleveurs\, vétérinaires\, étudiants\, passionnés\, \nNous avons l’honneur et le privilège de vous inviter à notre prochaine conférence le 24 Mars 2020 à partir de 18h45 à l’Ecole Nationale Vétérinaire de Toulouse sur le thème :\n« la tétée : pas si simple ». \nAnimée par quatre intervenants\, cette conférence sera l’occasion d’aborder les différents sujets proposés.\nVous aurez l’opportunité d’interroger nos participants\, qui se feront un plaisir de répondre à vos questions. \nA l’issue de cette soirée\, vous serez convié à partager un buffet qui vous sera offert. \nVeuillez noter que toutes les conférences seront diffusées en Facebook Live\, seulement les questions aux experts seront réservées aux personnes présentes sur place\, pas de questions via Facebook. Merci de votre compréhension. \nNous nous tenons à votre entière disposition pour tout renseignement complémentaire concernant cette soirée de formation. \nConvaincus que votre contribution sera très bénéfique\, nous nous réjouissons de votre présence. \nL’inscription est gratuite mais obligatoire : http://bit.ly/conférence-la-tétée \nL’Equipe NeoCare \n \n 
URL:https://wp-debug.envt.fr/agenda/soiree-neocare-la-tetee-pas-si-simple/
LOCATION:Ecole Nationale Vétérinaire de Toulouse\, 23\, chemin des capelles\, Toulouse\, 31000\, France
ORGANIZER;CN="NeoCare":MAILTO:repro@envt.fr
END:VEVENT
BEGIN:VEVENT
DTSTART;TZID=Europe/Paris:20190611T190000
DTEND;TZID=Europe/Paris:20190611T220000
DTSTAMP:20260425T164227
CREATED:20190527T080041Z
LAST-MODIFIED:20190527T103543Z
UID:15976-1560279600-1560290400@wp-debug.envt.fr
SUMMARY:Soirée NeoCare : Phytothérapie chez le chien et le chat
DESCRIPTION:Soirée NeoCare : phytothérapie chez le chien et le chat\nAnimée par trois intervenants\, cette conférence sera l’occasion d’échanger sur le sujet. \nVous aurez l’opportunité d’interroger nos participants\, qui se feront un plaisir de répondre à vos questions. \nDurant la soirée\, différents thèmes autour de ce sujet seront abordés\, n’hésitez pas à regarder le programme. \nCette soirée est ouverte aux éleveurs\, vétérinaires\, étudiants\, ASV et passionnés. \nA l’issue de cette soirée\, vous serez convié à partager un buffet qui vous sera offert. \nVous trouverez sur la page Facebook de l’événement les informations pour vous connecter au Facebook Live\, ainsi que les informations pour vous rendre sur place. \nATTENTION : Veuillez noter que toutes les conférences seront diffusées en Facebook Live\, seulement les questions aux experts seront réservées aux personnes présentes sur place\, pas de questions via Facebook. \nMerci de votre compréhension. \nInscription gratuite mais obligatoire\nen cliquant sur ce lien : http://bit.ly/soirée-phytothérapie \nPour vous connecter au Facebook Live\nVous vous êtes inscrit pour assister au Facebook live de la soirée NeoCare « Phytothérapie chez le chien et le chat ». \nPour vous connecter\, c’est très simple. Vous devez vous rendre entre à partir de 19h sur la page NeoCare Toulouse https://www.facebook.com/NeoCare.Toulouse/ \nUne fois sur la page Facebook\, vous devez descendre sur la page et aller sous « services / avis / photos / vidéos / publications ».\nVous arrivez alors sur la partie « publication ».\nVous verrez noté « NeoCare est en direct » avec une horloge qui défile. \nVous y êtes ! \nIl faudra alors patienter jusqu’à 19h15\, nous commencerons précisément à l’heure. \nVous verrez alors la première présentation par le Pr Chastant. \nEntre 19h et 19h15 nous serons sur la page NeoCare donc nous pourrons vous aider si besoin. \nPour vous rendre sur place à l’ENVT\nVous vous êtes inscrit pour assister à la soirée NeoCare « Phytothérapie chez le chien et le chat » à l’Ecole Nationale Vétérinaire de Toulouse. \nL’adresse est :\nENVT\n23 Chemin des Capelles\n31300 Toulouse \nIl faut entrer par l’entrée principale (N°2) de l’école. \nLe bâtiment où a lieu les conférences est situé juste en face de cette entrée. Vous pouvez stationner sur le parking en entrant à droite. \nL’accueil se fait à partir de 19h et nous commencerons précisément à 19h15 les conférences. \nN’hésitez pas à nous contacter si vous avez des questions.
URL:https://wp-debug.envt.fr/agenda/soiree-neocare-phytotherapie-chez-le-chien-et-le-chat/
LOCATION:Ecole Nationale Vétérinaire de Toulouse\, 23\, chemin des capelles\, Toulouse\, 31000\, France
ORGANIZER;CN="NeoCare":MAILTO:repro@envt.fr
END:VEVENT
BEGIN:VEVENT
DTSTART;TZID=Europe/Paris:20190521T190000
DTEND;TZID=Europe/Paris:20190521T213000
DTSTAMP:20260425T164227
CREATED:20190503T123653Z
LAST-MODIFIED:20190503T123653Z
UID:15888-1558465200-1558474200@wp-debug.envt.fr
SUMMARY:Soirée NeoCare "La stérilisation précoce du chaton"
DESCRIPTION:Le Centre Neocare\, de l’Ecole Nationale Vétérinaire de Toulouse\, organise une nouvelle soirée de formation gratuite. \nCette soirée est ouverte à tous les professionnels du monde canin et félin\, ainsi qu’aux étudiants et aux passionnés. \nCette soirée aura lieu le 21 Mai 2019. \nIl est possible d’assister à l’intégralité de la soirée en venant physiquement à l’Ecole Vétérinaire de Toulouse (23 Chemin des Capelles)\, soit depuis chez vous grâce à une retransmission en direct\, de la première partie uniquement\, qui sera réalisée via un Facebook Live. \nL’inscription se fait via le lien suivant : https://www.weezevent.com/soiree-neocare-sterilisation-precoce-du-chaton \nNous vous attendons nombreux ! \nCi-joint le programme \nsoirée NeoCare la stérilisation précoce du chaton
URL:https://wp-debug.envt.fr/agenda/soiree-neocare-la-sterilisation-precoce-du-chaton/
LOCATION:Ecole Nationale Vétérinaire de Toulouse\, 23\, chemin des capelles\, Toulouse\, 31000\, France
ORGANIZER;CN="NeoCare":MAILTO:repro@envt.fr
END:VEVENT
BEGIN:VEVENT
DTSTART;TZID=Europe/Paris:20181110T130000
DTEND;TZID=Europe/Paris:20181110T170000
DTSTAMP:20260425T164227
CREATED:20180719T133053Z
LAST-MODIFIED:20180725T144600Z
UID:15283-1541854800-1541869200@wp-debug.envt.fr
SUMMARY:Formation Boehringer Ingelheim
DESCRIPTION:Nous serons présent à la journée de formation organisée par Boehringer Ingelheim. Nous présenterons notamment une conférence sur : « Conséquences d’un petit poids de naissance sur les chances de survie : définition de nouveaux seuils d’alerte ».
URL:https://wp-debug.envt.fr/agenda/formation-boehringer/
LOCATION:Boehringer Ingelheim\, 29 avenue Tony Garnier\, Lyon\, 69007\, France
CATEGORIES:Conférences
ATTACH;FMTTYPE=image/jpeg:https://wp-debug.envt.fr/wp-content/uploads/2018/07/image-formation-chat-boehringer.jpg
END:VEVENT
BEGIN:VEVENT
DTSTART;TZID=Europe/Paris:20181108T193000
DTEND;TZID=Europe/Paris:20181108T213000
DTSTAMP:20260425T164227
CREATED:20180719T131747Z
LAST-MODIFIED:20180725T145228Z
UID:15280-1541705400-1541712600@wp-debug.envt.fr
SUMMARY:Soirée NeoCare
DESCRIPTION:Le Centre NeoCare de l’Ecole Nationale Vétérinaire de Toulouse organise une nouvelle soirée NeoCare destinée aux acteurs de la filière féline (éleveurs\, vétérinaires\, étudiants\, industriels…). \nProgramme de la soirée. \nInscription \nNous vous attendons nombreux !
URL:https://wp-debug.envt.fr/agenda/soiree-neocare-2/
LOCATION:Ecole Nationale Vétérinaire de Toulouse\, 23\, chemin des capelles\, Toulouse\, 31000\, France
CATEGORIES:Conférences,Soirées NeoCare
ORGANIZER;CN="NeoCare":MAILTO:repro@envt.fr
END:VEVENT
BEGIN:VEVENT
DTSTART;TZID=Europe/Paris:20181004T193000
DTEND;TZID=Europe/Paris:20181004T213000
DTSTAMP:20260425T164227
CREATED:20180716T110213Z
LAST-MODIFIED:20180725T144713Z
UID:15117-1538681400-1538688600@wp-debug.envt.fr
SUMMARY:Soirée NeoCare
DESCRIPTION:Le Centre NeoCare de l’Ecole Nationale Vétérinaire de Toulouse organise une nouvelle soirée NeoCare destinée aux acteurs de la filière canine (éleveurs\, vétérinaires\, étudiants\, industriels…). \nProgramme de la soirée. \nInscription \nNous vous attendons nombreux ! \n 
URL:https://wp-debug.envt.fr/agenda/soiree-neocare/
LOCATION:Ecole Nationale Vétérinaire de Toulouse\, 23\, chemin des capelles\, Toulouse\, 31000\, France
CATEGORIES:Conférences,Soirées NeoCare
ATTACH;FMTTYPE=image/png:https://wp-debug.envt.fr/wp-content/uploads/2018/07/soirée-neocare-idee-recu-chien-e1531755149743.png
ORGANIZER;CN="NeoCare":MAILTO:repro@envt.fr
END:VEVENT
BEGIN:VEVENT
DTSTART;TZID=Europe/Paris:20180923T080000
DTEND;TZID=Europe/Paris:20180923T170000
DTSTAMP:20260425T164227
CREATED:20180719T135703Z
LAST-MODIFIED:20180725T145125Z
UID:15292-1537689600-1537722000@wp-debug.envt.fr
SUMMARY:Exposition Canine à Cluny
DESCRIPTION:Nous serons présents à la nationale d’élevage du Leonberg à Cluny (plus d’informations ici)\, pour échanger avec les éleveurs et passionnés de la race et réaliser une étude sur le poids et la note d’état corporelle chez le Leonberg (pour en savoir plus sur l’étude cliquer ici)
URL:https://wp-debug.envt.fr/agenda/exposition-canine-a-cluny/
LOCATION:Cluny\, Foyer des Griottons\, Cluny\, 71250\, France
CATEGORIES:Expositions
ATTACH;FMTTYPE=image/png:https://wp-debug.envt.fr/wp-content/uploads/2018/07/Expo-canin-Cluny.png
END:VEVENT
BEGIN:VEVENT
DTSTART;VALUE=DATE:20180922
DTEND;VALUE=DATE:20180924
DTSTAMP:20260425T164227
CREATED:20180719T134632Z
LAST-MODIFIED:20180725T144538Z
UID:15289-1537574400-1537747199@wp-debug.envt.fr
SUMMARY:Portes ouvertes - Ecole Nationale Vétérinaire de Toulouse
DESCRIPTION:Amoureux des animaux\, vétérinaires en herbe ou simplement curieux… Venez retrouver les étudiants\, les cliniciens et les chercheurs de l’Ecole Nationale Vétérinaire de Toulouse lors de ses journées portes ouvertes – WE des 22 & 23 septembre 2018 – de 10h à 18h ! \nAu programme :\n► Découverte du campus vétérinaire et animations des clubs étudiants\n► Visite des différentes cliniques du Centre Hospitalier Universitaire de l’ENVT\n► Nombreux stands pédagogiques et initiation aux « sciences vétérinaires »\n► Tables rondes et ateliers autour de la santé animale et de la santé publique\n► Information sur le cursus et les métiers des vétérinaires\n► Animations au centre équestre de l’ENVT…. \nNe manquez pas ce grand rendez-vous ludique\, familial et pédagogique !
URL:https://wp-debug.envt.fr/agenda/portes-ouvertes-ecole-veterinaire-toulouse/
LOCATION:Ecole Nationale Vétérinaire de Toulouse\, 23\, chemin des capelles\, Toulouse\, 31000\, France
CATEGORIES:Divers
ATTACH;FMTTYPE=image/jpeg:https://wp-debug.envt.fr/wp-content/uploads/2018/07/we-portes-ouvertes-envt.jpg
END:VEVENT
END:VCALENDAR